BEGIN:VCALENDAR
VERSION:2.0
PRODID:-//Sabre//Sabre VObject 4.5.8//EN
CALSCALE:GREGORIAN
BEGIN:VEVENT
UID:sabre-vobject-c0d4bd53-d195-483d-8ab6-bf69b887c9ba
DTSTAMP:20260421T112835Z
SUMMARY:Maurice Elie Sarthou - Bilder
DESCRIPTION:https://neuburg-donau.info/veranstaltungen/maurice-elie-sarthou
 -bilder_id51676
DTSTART;TZID=Europe/Berlin:20260710T170000
DTEND;TZID=Europe/Berlin:20260710T190000
LOCATION:Städtische Galerie im Rathausfletz\, Karlsplatz A 12\, 86633 Neub
 urg an der Donau
END:VEVENT
END:VCALENDAR
