BEGIN:VCALENDAR
VERSION:2.0
PRODID:-//Sabre//Sabre VObject 4.5.8//EN
CALSCALE:GREGORIAN
BEGIN:VEVENT
UID:sabre-vobject-1dc9e04a-b64b-434d-9d99-1c4c8088111c
DTSTAMP:20260423T090256Z
SUMMARY:Medienerziehung im Kleinkindalter
DESCRIPTION:https://neuburg-donau.info/veranstaltungen/medienerziehung-im-k
 leinkindalter_id52056
DTSTART;TZID=Europe/Berlin:20260921T190000
DTEND;TZID=Europe/Berlin:20260921T203000
LOCATION:Online
END:VEVENT
END:VCALENDAR
