BEGIN:VCALENDAR
VERSION:2.0
PRODID:-//Sabre//Sabre VObject 4.5.8//EN
CALSCALE:GREGORIAN
BEGIN:VEVENT
UID:sabre-vobject-4aacd8bf-b18f-49c6-bb9f-d8572753dff5
DTSTAMP:20260425T102515Z
SUMMARY:Kinderschlaf – Online Sprechstunde
DESCRIPTION:https://neuburg-donau.info/veranstaltungen/kinderschlaf-online-
 sprechstunde_id52061
DTSTART;TZID=Europe/Berlin:20260926T090000
DTEND;TZID=Europe/Berlin:20260926T103000
LOCATION:Online
END:VEVENT
END:VCALENDAR
