BEGIN:VCALENDAR
VERSION:2.0
PRODID:-//Sabre//Sabre VObject 4.5.8//EN
CALSCALE:GREGORIAN
BEGIN:VEVENT
UID:sabre-vobject-9daf2fa8-0f7b-4607-a9bf-9a480a1a0702
DTSTAMP:20260420T031049Z
SUMMARY:Frühlingsfest der Lebenshilfe Bayern Mitte
DESCRIPTION:https://neuburg-donau.info/veranstaltungen/fruehlingsfest-der-l
 ebenshilfe-bayern-mitte_id52476
DTSTART;TZID=Europe/Berlin:20260425T100000
DTEND;TZID=Europe/Berlin:20260425T170000
LOCATION:Lebenshilfe Werkstätte Neuburg\, Nördliche Grünauer Straße 38\
 , 86633 Neuburg an der Donau
END:VEVENT
END:VCALENDAR
