BEGIN:VCALENDAR
VERSION:2.0
PRODID:-//Sabre//Sabre VObject 4.5.8//EN
CALSCALE:GREGORIAN
BEGIN:VEVENT
UID:sabre-vobject-9fc406de-396d-487c-9d4d-6537c745949a
DTSTAMP:20260424T091918Z
SUMMARY:Geheimnisvolle Welt der Fledermäuse
DESCRIPTION:https://neuburg-donau.info/veranstaltungen/geheimnisvolle-welt-
 der-fledermaeuse_id52483
DTSTART;TZID=Europe/Berlin:20260505T183000
DURATION:PT30M
LOCATION:Haus im Moos\, Kleinhohenried 108\, 86668 Karlshuld
END:VEVENT
END:VCALENDAR
