BEGIN:VCALENDAR
VERSION:2.0
PRODID:-//Sabre//Sabre VObject 4.5.8//EN
CALSCALE:GREGORIAN
BEGIN:VEVENT
UID:sabre-vobject-2d67655f-e5ae-4671-9420-26fa433d050f
DTSTAMP:20260420T092042Z
SUMMARY:Halfblind Henry - Konzert
DESCRIPTION:https://neuburg-donau.info/veranstaltungen/halfblind-henry-konz
 ert_id52593
DTSTART;TZID=Europe/Berlin:20260417T200000
DTEND;TZID=Europe/Berlin:20260417T220000
LOCATION:Die Drogerie – Live Club\, Luitpoldstraße 180 B\, 86633 Neuburg
  an der Donau
END:VEVENT
END:VCALENDAR
