BEGIN:VCALENDAR
VERSION:2.0
PRODID:-//Sabre//Sabre VObject 4.5.8//EN
CALSCALE:GREGORIAN
BEGIN:VEVENT
UID:sabre-vobject-27af7075-6e62-460c-bb88-5caf11ccc300
DTSTAMP:20260421T220454Z
SUMMARY:Multi-Kulti-Bürgerfest
DESCRIPTION:https://neuburg-donau.info/veranstaltungen/multi-kulti-buergerf
 est_id52598
DTSTART;TZID=Europe/Berlin:20260620T140000
DTEND;TZID=Europe/Berlin:20260620T233000
LOCATION:Volksfestplatz\, Volksfestplatz\, 86633 Neuburg an der Donau
END:VEVENT
END:VCALENDAR
