BEGIN:VCALENDAR
VERSION:2.0
PRODID:-//Sabre//Sabre VObject 4.5.8//EN
CALSCALE:GREGORIAN
BEGIN:VEVENT
UID:sabre-vobject-14fa5632-a520-4e98-9054-7f1ee4bcfae6
DTSTAMP:20260421T130836Z
SUMMARY:Gelenkersatz bei Arthrose - der Weg zu mehr Lebensqualität
DESCRIPTION:https://neuburg-donau.info/veranstaltungen/gelenkersatz-bei-art
 hrose-der-weg-zu-mehr-lebensqualitaet_id52656
DTSTART;TZID=Europe/Berlin:20260428T180000
DURATION:PT30M
LOCATION:AMEOS Institut Süd\, Bahnhofstraße 103b\, 86633 Neuburg an der D
 onau
END:VEVENT
END:VCALENDAR
