BEGIN:VCALENDAR
VERSION:2.0
PRODID:-//Sabre//Sabre VObject 4.5.8//EN
CALSCALE:GREGORIAN
BEGIN:VEVENT
UID:sabre-vobject-18746fe3-fe54-448f-9119-1701113aa6ec
DTSTAMP:20260422T123423Z
SUMMARY:Più Präsentiert: Alex Heitlinger
DESCRIPTION:https://neuburg-donau.info/veranstaltungen/piu-praesentiert-ale
 x-heitlinger_id52676
DTSTART;TZID=Europe/Berlin:20260430T193000
DTEND;TZID=Europe/Berlin:20260430T210000
LOCATION:Più Piano\, Spitalstraße C 172\, 86633 Neuburg an der Donau
END:VEVENT
END:VCALENDAR
