BEGIN:VCALENDAR
VERSION:2.0
PRODID:-//Sabre//Sabre VObject 4.5.8//EN
CALSCALE:GREGORIAN
BEGIN:VEVENT
UID:sabre-vobject-c44a63d0-54f4-4af0-b706-456260acb61a
DTSTAMP:20260424T084806Z
SUMMARY:Più Präsentiert: Patrick Stefan - Indie Folk Beyond Borders
DESCRIPTION:https://neuburg-donau.info/veranstaltungen/piu-praesentiert-pat
 rick-stefan-indie-folk-beyond-borders_id52678
DTSTART;TZID=Europe/Berlin:20260519T193000
DTEND;TZID=Europe/Berlin:20260519T210000
LOCATION:Più Piano\, Spitalstraße C 172\, 86633 Neuburg an der Donau
END:VEVENT
END:VCALENDAR
