BEGIN:VCALENDAR
VERSION:2.0
PRODID:-//Sabre//Sabre VObject 4.5.8//EN
CALSCALE:GREGORIAN
BEGIN:VEVENT
UID:sabre-vobject-e4180e3d-8dbd-46ac-93ca-3b9c7367c5b1
DTSTAMP:20260422T142655Z
SUMMARY:Più Präsentiert: James Wylie
DESCRIPTION:https://neuburg-donau.info/veranstaltungen/piu-praesentiert-jam
 es-wylie_id52680
DTSTART;TZID=Europe/Berlin:20260622T193000
DTEND;TZID=Europe/Berlin:20260622T210000
LOCATION:Più Piano\, Spitalstraße C 172\, 86633 Neuburg an der Donau
END:VEVENT
END:VCALENDAR
